{"text_format":"1","workbook":"xlsx","n_sheets":3,"sheets":["発行申請書","データ入力","リスト"],"not_rendered":{"charts":0,"images":0,"macros":1,"external_links":0,"defined_names":5,"comments":1,"pivot_tables":0},"unopened":[],"bounds":{"document_bytes":16777216,"sheet_cells":100000,"rows_first":2000,"rows_last":500,"rows_between":2000,"halvings":0,"cell_chars":16384,"cell_head_chars":4096},"cells_cut":0,"cells_raw":0,"read":"whole","date_system":"1900"}

{"sheet":"発行申請書","index":0,"n_rows":220,"n_cols":11,"rows_kept":220,"cut":false,"hidden":false,"merged":[[217,4,218,5],[209,4,210,5],[57,4,58,5],[8,6,8,10],[213,9,214,9],[201,9,202,9],[201,6,202,8],[209,9,210,9],[209,6,210,8],[199,9,200,9],[199,6,200,8],[193,10,194,10],[185,6,186,8],[183,10,184,10],[181,9,182,9],[181,10,182,10],[177,4,178,5],[177,9,178,9],[177,10,178,10],[179,9,180,9],[179,10,180,10],[183,6,184,8],[197,9,198,9],[197,10,198,10],[213,0,214,0],[213,1,214,1],[213,3,214,3],[213,6,214,8],[213,4,214,5],[213,10,214,10],[211,10,212,10],[205,6,206,8],[0,8,0,9],[3,6,3,9],[4,6,4,9],[6,6,6,9],[7,6,7,9],[193,9,194,9],[191,9,192,9],[183,9,184,9],[175,9,176,9],[29,4,30,5],[211,4,212,5],[207,4,208,5],[35,4,36,5],[49,4,50,5],[43,4,44,5],[45,4,46,5],[209,0,210,0],[209,10,210,10],[211,0,212,0],[211,1,212,1],[211,3,212,3],[211,6,212,8],[211,9,212,9],[209,1,210,1],[209,3,210,3],[207,0,208,0],[207,1,208,1],[201,10,202,10],[203,9,204,9],[203,10,204,10],[205,10,206,10],[205,9,206,9],[203,0,204,0],[203,1,204,1],[203,3,204,3],[203,6,204,8],[203,4,204,5],[207,9,208,9],[207,10,208,10],[207,6,208,8],[201,0,202,0],[201,1,202,1],[201,3,202,3],[201,4,202,5],[205,0,206,0],[205,1,206,1],[205,3,206,3],[207,3,208,3],[205,4,206,5],[195,9,196,9],[195,10,196,10],[199,10,200,10],[197,0,198,0],[197,1,198,1],[197,4,198,5],[199,4,200,5],[199,0,200,0],[199,1,200,1],[199,3,200,3],[193,0,194,0],[193,1,194,1],[193,3,194,3],[193,6,194,8],[193,4,194,5],[195,0,196,0],[195,1,196,1],[195,3,196,3],[195,6,196,8],[195,4,196,5],[187,0,188,0],[187,1,188,1],[187,3,188,3],[187,6,188,8],[187,4,188,5],[191,10,192,10],[189,9,190,9],[189,10,190,10],[185,4,186,5],[185,9,186,9],[185,10,186,10],[187,9,188,9],[187,10,188,10],[191,6,192,8],[189,6,190,8],[191,4,192,5],[189,4,190,5],[191,0,192,0],[191,1,192,1],[191,3,192,3],[189,0,190,0],[189,1,190,1],[189,3,190,3],[183,0,184,0],[183,1,184,1],[183,3,184,3],[181,0,182,0],[181,1,182,1],[181,3,182,3],[185,0,186,0],[185,1,186,1],[185,3,186,3],[177,0,178,0],[177,1,178,1],[177,3,178,3],[177,6,178,8],[179,0,180,0],[179,1,180,1],[179,3,180,3],[179,6,180,8],[179,4,180,5],[171,0,172,0],[171,1,172,1],[171,3,172,3],[171,6,172,8],[171,4,172,5],[175,10,176,10],[173,9,174,9],[173,10,174,10],[169,4,170,5],[169,9,170,9],[169,10,170,10],[171,9,172,9],[171,10,172,10],[175,6,176,8],[173,6,174,8],[175,4,176,5],[173,4,174,5],[175,0,176,0],[175,1,176,1],[175,3,176,3],[173,0,174,0],[173,1,174,1],[173,3,174,3],[167,0,168,0],[167,1,168,1],[167,3,168,3],[165,0,166,0],[165,1,166,1],[165,3,166,3],[169,0,170,0],[169,1,170,1],[169,3,170,3],[167,10,168,10],[165,9,166,9],[165,10,166,10],[161,4,162,5],[161,9,162,9],[161,10,162,10],[163,9,164,9],[163,10,164,10],[167,6,168,8],[165,6,166,8],[167,9,168,9],[167,4,168,5],[165,4,166,5],[161,0,162,0],[161,1,162,1],[161,3,162,3],[161,6,162,8],[163,0,164,0],[163,1,164,1],[163,3,164,3],[163,6,164,8],[163,4,164,5],[155,0,156,0],[155,1,156,1],[155,3,156,3],[155,6,156,8],[155,4,156,5],[159,10,160,10],[157,9,158,9],[157,10,158,10],[153,4,154,5],[153,9,154,9],[153,10,154,10],[155,9,156,9],[155,10,156,10],[159,6,160,8],[157,6,158,8],[159,9,160,9],[159,4,160,5],[157,4,158,5],[159,0,160,0],[159,1,160,1],[159,3,160,3],[157,0,158,0],[157,1,158,1],[157,3,158,3],[151,0,152,0],[151,1,152,1],[151,3,152,3],[149,0,150,0],[149,1,150,1],[149,3,150,3],[153,0,154,0],[153,1,154,1],[153,3,154,3],[151,10,152,10],[149,9,150,9],[149,10,150,10],[145,4,146,5],[145,9,146,9],[145,10,146,10],[147,9,148,9],[147,10,148,10],[151,6,152,8],[149,6,150,8],[151,9,152,9],[151,4,152,5],[149,4,150,5],[145,0,146,0],[145,1,146,1],[145,3,146,3],[145,6,146,8],[147,0,148,0],[147,1,148,1],[147,3,148,3],[147,6,148,8],[147,4,148,5],[139,0,140,0],[139,1,140,1],[139,3,140,3],[139,6,140,8],[139,4,140,5],[143,10,144,10],[141,9,142,9],[141,10,142,10],[137,4,138,5],[137,9,138,9],[137,10,138,10],[139,9,140,9],[139,10,140,10],[143,6,144,8],[141,6,142,8],[143,9,144,9],[143,4,144,5],[141,4,142,5],[143,0,144,0],[143,1,144,1],[143,3,144,3],[141,0,142,0],[141,1,142,1],[141,3,142,3],[135,0,136,0],[135,1,136,1],[135,3,136,3],[133,0,134,0],[133,1,134,1],[133,3,134,3],[137,0,138,0],[137,1,138,1],[137,3,138,3],[135,10,136,10],[133,9,134,9],[133,10,134,10],[129,4,130,5],[129,9,130,9],[129,10,130,10],[131,9,132,9],[131,10,132,10],[135,6,136,8],[133,6,134,8],[135,9,136,9],[135,4,136,5],[133,4,134,5],[129,0,130,0],[129,1,130,1],[129,3,130,3],[129,6,130,8],[131,0,132,0],[131,1,132,1],[131,3,132,3],[131,6,132,8],[131,4,132,5],[123,0,124,0],[123,1,124,1],[123,3,124,3],[123,6,124,8],[123,4,124,5],[127,10,128,10],[125,9,126,9],[125,10,126,10],[121,4,122,5],[121,9,122,9],[121,10,122,10],[123,9,124,9],[123,10,124,10],[127,6,128,8],[125,6,126,8],[127,9,128,9],[127,4,128,5],[125,4,126,5],[127,0,128,0],[127,1,128,1],[127,3,128,3],[125,0,126,0],[125,1,126,1],[125,3,126,3],[119,0,120,0],[119,1,120,1],[119,3,120,3],[117,0,118,0],[117,1,118,1],[117,3,118,3],[121,0,122,0],[121,1,122,1],[121,3,122,3],[119,10,120,10],[117,9,118,9],[117,10,118,10],[113,4,114,5],[113,9,114,9],[113,10,114,10],[115,9,116,9],[115,10,116,10],[119,6,120,8],[117,6,118,8],[119,9,120,9],[119,4,120,5],[117,4,118,5],[113,0,114,0],[113,1,114,1],[113,3,114,3],[113,6,114,8],[115,0,116,0],[115,1,116,1],[115,3,116,3],[115,6,116,8],[115,4,116,5],[107,0,108,0],[107,1,108,1],[107,3,108,3],[107,6,108,8],[107,4,108,5],[111,10,112,10],[109,9,110,9],[109,10,110,10],[105,4,106,5],[105,9,106,9],[105,10,106,10],[107,9,108,9],[107,10,108,10],[111,6,112,8],[109,6,110,8],[111,9,112,9],[111,4,112,5],[109,4,110,5],[111,0,112,0],[111,1,112,1],[111,3,112,3],[109,0,110,0],[109,1,110,1],[109,3,110,3],[103,0,104,0],[103,1,104,1],[103,3,104,3],[101,0,102,0],[101,1,102,1],[101,3,102,3],[105,0,106,0],[105,1,106,1],[105,3,106,3],[103,10,104,10],[101,9,102,9],[101,10,102,10],[97,4,98,5],[97,9,98,9],[97,10,98,10],[99,9,100,9],[99,10,100,10],[103,6,104,8],[101,6,102,8],[103,9,104,9],[103,4,104,5],[101,4,102,5],[97,0,98,0],[97,1,98,1],[97,3,98,3],[97,6,98,8],[99,0,100,0],[99,1,100,1],[99,3,100,3],[99,6,100,8],[99,4,100,5],[95,9,96,9],[95,4,96,5],[93,4,94,5],[95,0,96,0],[95,1,96,1],[95,3,96,3],[93,0,94,0],[93,1,94,1],[93,3,94,3],[93,9,94,9],[89,0,90,0],[89,1,90,1],[89,3,90,3],[89,6,90,8],[91,0,92,0],[91,1,92,1],[91,3,92,3],[91,6,92,8],[91,4,92,5],[89,4,90,5],[83,0,84,0],[83,1,84,1],[83,3,84,3],[83,9,84,9],[83,10,84,10],[87,9,88,9],[81,6,82,8],[83,6,84,8],[87,10,88,10],[85,9,86,9],[85,10,86,10],[87,1,88,1],[87,3,88,3],[85,0,86,0],[85,1,86,1],[87,6,88,8],[85,3,86,3],[85,6,86,8],[85,4,86,5],[87,4,88,5],[87,0,88,0],[83,4,84,5],[79,0,80,0],[79,1,80,1],[79,3,80,3],[81,9,82,9],[81,10,82,10],[81,0,82,0],[81,1,82,1],[81,3,82,3],[81,4,82,5],[79,9,80,9],[79,6,80,8],[79,4,80,5],[77,0,78,0],[77,1,78,1],[77,4,78,5],[75,0,76,0],[75,1,76,1],[75,3,76,3],[75,4,76,5],[77,6,78,8],[75,6,76,8],[17,0,18,0],[17,1,18,1],[19,9,20,9],[19,10,20,10],[5,2,6,3],[0,2,0,3],[19,3,20,3],[19,1,20,1],[5,1,6,1],[9,1,10,1],[2,1,3,3],[0,5,0,7],[21,10,22,10],[19,4,20,5],[19,6,20,8],[17,9,18,9],[17,10,18,10],[17,3,18,3],[10,6,10,9],[11,6,11,9],[17,4,18,5],[17,6,18,8],[217,9,218,9],[61,9,62,9],[69,3,70,3],[25,0,26,0],[25,1,26,1],[25,3,26,3],[25,6,26,8],[25,4,26,5],[19,0,20,0],[21,1,22,1],[21,3,22,3],[21,6,22,8],[21,4,22,5],[23,1,24,1],[23,3,24,3],[23,6,24,8],[21,0,22,0],[23,0,24,0],[21,9,22,9],[71,0,72,0],[71,1,72,1],[73,0,74,0],[73,1,74,1],[73,3,74,3],[23,4,24,5],[217,1,218,1],[217,3,218,3],[217,6,218,8],[29,3,30,3],[29,6,30,8],[37,1,38,1],[37,3,38,3],[37,6,38,8],[33,4,34,5],[27,4,28,5],[65,1,66,1],[65,3,66,3],[63,1,64,1],[63,3,64,3],[65,4,66,5],[59,4,60,5],[67,1,68,1],[67,3,68,3],[67,6,68,8],[73,6,74,8],[73,4,74,5],[95,6,96,8],[93,6,94,8],[217,10,218,10],[27,0,28,0],[215,0,216,0],[27,1,28,1],[27,3,28,3],[27,6,28,8],[27,9,28,9],[27,10,28,10],[29,0,30,0],[217,0,218,0],[37,0,38,0],[39,0,40,0],[65,0,66,0],[63,0,64,0],[67,0,68,0],[67,4,68,5],[71,3,72,3],[71,6,72,8],[71,4,72,5],[69,9,70,9],[69,10,70,10],[71,10,72,10],[69,0,70,0],[69,1,70,1],[39,1,40,1],[39,3,40,3],[47,0,48,0],[47,1,48,1],[47,3,48,3],[47,6,48,8],[45,0,46,0],[69,6,70,8],[65,9,66,9],[63,6,64,8],[63,9,64,9],[65,6,66,8],[69,4,70,5],[63,4,64,5],[51,0,52,0],[51,1,52,1],[51,3,52,3],[51,6,52,8],[51,9,52,9],[41,0,42,0],[41,1,42,1],[43,0,44,0],[43,1,44,1],[43,3,44,3],[29,1,30,1],[29,9,30,9],[31,4,32,5],[35,0,36,0],[35,1,36,1],[35,3,36,3],[35,6,36,8],[35,9,36,9],[35,10,36,10],[33,0,34,0],[33,1,34,1],[33,3,34,3],[33,9,34,9],[33,6,34,8],[31,0,32,0],[31,1,32,1],[31,3,32,3],[31,6,32,8],[31,9,32,9],[51,10,52,10],[49,0,50,0],[49,1,50,1],[51,4,52,5],[49,3,50,3],[49,6,50,8],[45,1,46,1],[45,3,46,3],[45,6,46,8],[43,6,44,8],[41,4,42,5],[41,3,42,3],[41,6,42,8],[215,9,216,9],[215,10,216,10],[53,9,54,9],[55,10,56,10],[53,10,54,10],[55,9,56,9],[63,10,64,10],[65,10,66,10],[67,9,68,9],[67,10,68,10],[79,10,80,10],[77,10,78,10],[73,10,74,10],[75,10,76,10],[95,10,96,10],[93,10,94,10],[89,10,90,10],[89,9,90,9],[91,9,92,9],[71,9,72,9],[73,9,74,9],[77,9,78,9],[75,9,76,9],[91,10,92,10],[53,1,54,1],[53,3,54,3],[215,6,216,8],[53,6,54,8],[57,6,58,8],[55,6,56,8],[215,1,216,1],[215,3,216,3],[215,4,216,5],[105,6,106,8],[121,6,122,8],[137,6,138,8],[77,3,78,3],[153,6,154,8],[169,6,170,8],[181,6,182,8],[183,4,184,5],[181,4,182,5],[197,3,198,3],[197,6,198,8],[61,10,62,10],[59,9,60,9],[59,10,60,10],[53,4,54,5],[55,4,56,5],[49,9,50,9],[45,10,46,10],[47,10,48,10],[59,0,60,0],[59,1,60,1],[59,3,60,3],[59,6,60,8],[61,3,62,3],[61,6,62,8],[61,4,62,5],[61,0,62,0],[61,1,62,1],[57,0,58,0],[57,1,58,1],[57,3,58,3],[55,0,56,0],[55,1,56,1],[55,3,56,3],[53,0,54,0],[43,10,44,10],[33,10,34,10],[29,10,30,10],[23,10,24,10],[25,9,26,9],[25,10,26,10],[47,4,48,5],[57,9,58,9],[57,10,58,10],[49,10,50,10],[37,10,38,10],[39,9,40,9],[39,10,40,10],[37,4,38,5],[41,9,42,9],[41,10,42,10],[39,6,40,8],[39,4,40,5],[37,9,38,9],[31,10,32,10],[47,9,48,9],[45,9,46,9],[43,9,44,9],[23,9,24,9]]}
[null,"資格証発行機関：","Ｍ：豊田通商㈱",null,null,"申請日(yyyy/mm/dd)："]
["TOKU"]
[null,"資格登録･資格証発行申請書",null,null,null,"申請会社"]
[null,null,null,null,null,"　会社名："]
[null,null,null,null,null,"　代表者："]
[null,"教育名","01 高所作業教育",null,null,"講師"]
[null,null,null,null,null,"　氏名："]
[null,null,"※上記該当教育を選択してください。",null,null,"　番号："]
[null,"資格証発行日",null,null,null,"教育","作業責任者Ｂ教育のみ２日間で入力"]
[null,null,null,null,null,"教育日　：",null,"～"]
[null,null,null,null,null,"教育時間："]
[null,null,null,null,null,"教育場所：","豊田通商㈱豊田支店４F中会議室"]
[null,"(注) 1.必ず修了テストを行い、テスト結果は各社にて3年間は保存してください。"]
[null,"　　 2.太枠内は資格証発行機関にて記入します。"]
[null," 　  経路：申請書（申請会社記入）→発行機関に提出→資格証番号記入→写し（申請会社）に返却"]
[]
[null,"※資格証申請書に記載された個人情報につきましては、当会（会社）が責任を持って保管し、資格証発行に係る目的以外には使用しません。"]
["No","資格証No","フリガナ","生年月日","申請会社名",null,"所属会社名",null,null,"点数","合否"]
[null,null,"氏名"]
[1,null,{"$f":"IF(データ入力!$C$11=\"\",\"\",データ入力!$C$11)","v":""},{"$f":"IF(データ入力!$E$11=\"\",\"\",データ入力!$E$11)","v":""},{"$f":"IF(データ入力!$F$11=\"\",\"\",データ入力!$F$11)","v":""},null,{"$f":"IF(データ入力!$G$11=\"\",\"\",データ入力!$G$11)","v":""},null,null,{"$f":"IF(データ入力!$H$11=\"\",\"\",データ入力!$H$11)","v":""}]
[null,null,{"$f":"IF(データ入力!$D$11=\"\",\"\",データ入力!$D$11)","v":""}]
[2,null,{"$f":"IF(データ入力!$C$12=\"\",\"\",データ入力!$C$12)","v":""},{"$f":"IF(データ入力!$E$12=\"\",\"\",データ入力!$E$12)","v":""},{"$f":"IF(データ入力!$F$12=\"\",\"\",データ入力!$F$12)","v":""},null,{"$f":"IF(データ入力!$G$12=\"\",\"\",データ入力!$G$12)","v":""},null,null,{"$f":"IF(データ入力!$H$12=\"\",\"\",データ入力!$H$12)","v":""}]
[null,null,{"$f":"IF(データ入力!$D$12=\"\",\"\",データ入力!$D$12)","v":""}]
[3,null,{"$f":"IF(データ入力!$C$13=\"\",\"\",データ入力!$C$13)","v":""},{"$f":"IF(データ入力!$E$13=\"\",\"\",データ入力!$E$13)","v":""},{"$f":"IF(データ入力!$F$13=\"\",\"\",データ入力!$F$13)","v":""},null,{"$f":"IF(データ入力!$G$13=\"\",\"\",データ入力!$G$13)","v":""},null,null,{"$f":"IF(データ入力!$H$13=\"\",\"\",データ入力!$H$13)","v":""}]
[null,null,{"$f":"IF(データ入力!$D$13=\"\",\"\",データ入力!$D$13)","v":""}]
[4,null,{"$f":"IF(データ入力!$C$14=\"\",\"\",データ入力!$C$14)","v":""},{"$f":"IF(データ入力!$E$14=\"\",\"\",データ入力!$E$14)","v":""},{"$f":"IF(データ入力!$F$14=\"\",\"\",データ入力!$F$14)","v":""},null,{"$f":"IF(データ入力!$G$14=\"\",\"\",データ入力!$G$14)","v":""},null,null,{"$f":"IF(データ入力!$H$14=\"\",\"\",データ入力!$H$14)","v":""}]
[null,null,{"$f":"IF(データ入力!$D$14=\"\",\"\",データ入力!$D$14)","v":""}]
[5,null,{"$f":"IF(データ入力!$C$15=\"\",\"\",データ入力!$C$15)","v":""},{"$f":"IF(データ入力!$E$15=\"\",\"\",データ入力!$E$15)","v":""},{"$f":"IF(データ入力!$F$15=\"\",\"\",データ入力!$F$15)","v":""},null,{"$f":"IF(データ入力!$G$15=\"\",\"\",データ入力!$G$15)","v":""},null,null,{"$f":"IF(データ入力!$H$15=\"\",\"\",データ入力!$H$15)","v":""}]
[null,null,{"$f":"IF(データ入力!$D$15=\"\",\"\",データ入力!$D$15)","v":""}]
[6,null,{"$f":"IF(データ入力!$C$16=\"\",\"\",データ入力!$C$16)","v":""},{"$f":"IF(データ入力!$E$16=\"\",\"\",データ入力!$E$16)","v":""},{"$f":"IF(データ入力!$F$16=\"\",\"\",データ入力!$F$16)","v":""},null,{"$f":"IF(データ入力!$G$16=\"\",\"\",データ入力!$G$16)","v":""},null,null,{"$f":"IF(データ入力!$H$16=\"\",\"\",データ入力!$H$16)","v":""}]
[null,null,{"$f":"IF(データ入力!$D$16=\"\",\"\",データ入力!$D$16)","v":""}]
[7,null,{"$f":"IF(データ入力!$C$17=\"\",\"\",データ入力!$C$17)","v":""},{"$f":"IF(データ入力!$E$17=\"\",\"\",データ入力!$E$17)","v":""},{"$f":"IF(データ入力!$F$17=\"\",\"\",データ入力!$F$17)","v":""},null,{"$f":"IF(データ入力!$G$17=\"\",\"\",データ入力!$G$17)","v":""},null,null,{"$f":"IF(データ入力!$H$17=\"\",\"\",データ入力!$H$17)","v":""}]
[null,null,{"$f":"IF(データ入力!$D$17=\"\",\"\",データ入力!$D$17)","v":""}]
[8,null,{"$f":"IF(データ入力!$C$18=\"\",\"\",データ入力!$C$18)","v":""},{"$f":"IF(データ入力!$E$18=\"\",\"\",データ入力!$E$18)","v":""},{"$f":"IF(データ入力!$F$18=\"\",\"\",データ入力!$F$18)","v":""},null,{"$f":"IF(データ入力!$G$18=\"\",\"\",データ入力!$G$18)","v":""},null,null,{"$f":"IF(データ入力!$H$18=\"\",\"\",データ入力!$H$18)","v":""}]
[null,null,{"$f":"IF(データ入力!$D$18=\"\",\"\",データ入力!$D$18)","v":""}]
[9,null,{"$f":"IF(データ入力!$C$19=\"\",\"\",データ入力!$C$19)","v":""},{"$f":"IF(データ入力!$E$19=\"\",\"\",データ入力!$E$19)","v":""},{"$f":"IF(データ入力!$F$19=\"\",\"\",データ入力!$F$19)","v":""},null,{"$f":"IF(データ入力!$G$19=\"\",\"\",データ入力!$G$19)","v":""},null,null,{"$f":"IF(データ入力!$H$19=\"\",\"\",データ入力!$H$19)","v":""}]
[null,null,{"$f":"IF(データ入力!$D$19=\"\",\"\",データ入力!$D$19)","v":""}]
[10,null,{"$f":"IF(データ入力!$C$20=\"\",\"\",データ入力!$C$20)","v":""},{"$f":"IF(データ入力!$E$20=\"\",\"\",データ入力!$E$20)","v":""},{"$f":"IF(データ入力!$F$20=\"\",\"\",データ入力!$F$20)","v":""},null,{"$f":"IF(データ入力!$G$20=\"\",\"\",データ入力!$G$20)","v":""},null,null,{"$f":"IF(データ入力!$H$20=\"\",\"\",データ入力!$H$20)","v":""}]
[null,null,{"$f":"IF(データ入力!$D$20=\"\",\"\",データ入力!$D$20)","v":""}]
[11,null,{"$f":"IF(データ入力!$C$21=\"\",\"\",データ入力!$C$21)","v":""},{"$f":"IF(データ入力!$E$21=\"\",\"\",データ入力!$E$21)","v":""},{"$f":"IF(データ入力!$F$21=\"\",\"\",データ入力!$F$21)","v":""},null,{"$f":"IF(データ入力!$G$21=\"\",\"\",データ入力!$G$21)","v":""},null,null,{"$f":"IF(データ入力!$H$21=\"\",\"\",データ入力!$H$21)","v":""}]
[null,null,{"$f":"IF(データ入力!$D$21=\"\",\"\",データ入力!$D$21)","v":""}]
[12,null,{"$f":"IF(データ入力!$C$22=\"\",\"\",データ入力!$C$22)","v":""},{"$f":"IF(データ入力!$E$22=\"\",\"\",データ入力!$E$22)","v":""},{"$f":"IF(データ入力!$F$22=\"\",\"\",データ入力!$F$22)","v":""},null,{"$f":"IF(データ入力!$G$22=\"\",\"\",データ入力!$G$22)","v":""},null,null,{"$f":"IF(データ入力!$H$22=\"\",\"\",データ入力!$H$22)","v":""}]
[null,null,{"$f":"IF(データ入力!$D$22=\"\",\"\",データ入力!$D$22)","v":""}]
[13,null,{"$f":"IF(データ入力!$C$23=\"\",\"\",データ入力!$C$23)","v":""},{"$f":"IF(データ入力!$E$23=\"\",\"\",データ入力!$E$23)","v":""},{"$f":"IF(データ入力!$F$23=\"\",\"\",データ入力!$F$23)","v":""},null,{"$f":"IF(データ入力!$G$23=\"\",\"\",データ入力!$G$23)","v":""},null,null,{"$f":"IF(データ入力!$H$23=\"\",\"\",データ入力!$H$23)","v":""}]
[null,null,{"$f":"IF(データ入力!$D$23=\"\",\"\",データ入力!$D$23)","v":""}]
[14,null,{"$f":"IF(データ入力!$C$24=\"\",\"\",データ入力!$C$24)","v":""},{"$f":"IF(データ入力!$E$24=\"\",\"\",データ入力!$E$24)","v":""},{"$f":"IF(データ入力!$F$24=\"\",\"\",データ入力!$F$24)","v":""},null,{"$f":"IF(データ入力!$G$24=\"\",\"\",データ入力!$G$24)","v":""},null,null,{"$f":"IF(データ入力!$H$24=\"\",\"\",データ入力!$H$24)","v":""}]
[null,null,{"$f":"IF(データ入力!$D$24=\"\",\"\",データ入力!$D$24)","v":""}]
[15,null,{"$f":"IF(データ入力!$C$25=\"\",\"\",データ入力!$C$25)","v":""},{"$f":"IF(データ入力!$E$25=\"\",\"\",データ入力!$E$25)","v":""},{"$f":"IF(データ入力!$F$25=\"\",\"\",データ入力!$F$25)","v":""},null,{"$f":"IF(データ入力!$G$25=\"\",\"\",データ入力!$G$25)","v":""},null,null,{"$f":"IF(データ入力!$H$25=\"\",\"\",データ入力!$H$25)","v":""}]
[null,null,{"$f":"IF(データ入力!$D$25=\"\",\"\",データ入力!$D$25)","v":""}]
[16,null,{"$f":"IF(データ入力!$C$26=\"\",\"\",データ入力!$C$26)","v":""},{"$f":"IF(データ入力!$E$26=\"\",\"\",データ入力!$E$26)","v":""},{"$f":"IF(データ入力!$F$26=\"\",\"\",データ入力!$F$26)","v":""},null,{"$f":"IF(データ入力!$G$26=\"\",\"\",データ入力!$G$26)","v":""},null,null,{"$f":"IF(データ入力!$H$26=\"\",\"\",データ入力!$H$26)","v":""}]
[null,null,{"$f":"IF(データ入力!$D$26=\"\",\"\",データ入力!$D$26)","v":""}]
[17,null,{"$f":"IF(データ入力!$C$27=\"\",\"\",データ入力!$C$27)","v":""},{"$f":"IF(データ入力!$E$27=\"\",\"\",データ入力!$E$27)","v":""},{"$f":"IF(データ入力!$F$27=\"\",\"\",データ入力!$F$27)","v":""},null,{"$f":"IF(データ入力!$G$27=\"\",\"\",データ入力!$G$27)","v":""},null,null,{"$f":"IF(データ入力!$H$27=\"\",\"\",データ入力!$H$27)","v":""}]
[null,null,{"$f":"IF(データ入力!$D$27=\"\",\"\",データ入力!$D$27)","v":""}]
[18,null,{"$f":"IF(データ入力!$C$28=\"\",\"\",データ入力!$C$28)","v":""},{"$f":"IF(データ入力!$E$28=\"\",\"\",データ入力!$E$28)","v":""},{"$f":"IF(データ入力!$F$28=\"\",\"\",データ入力!$F$28)","v":""},null,{"$f":"IF(データ入力!$G$28=\"\",\"\",データ入力!$G$28)","v":""},null,null,{"$f":"IF(データ入力!$H$28=\"\",\"\",データ入力!$H$28)","v":""}]
[null,null,{"$f":"IF(データ入力!$D$28=\"\",\"\",データ入力!$D$28)","v":""}]
[19,null,{"$f":"IF(データ入力!$C$29=\"\",\"\",データ入力!$C$29)","v":""},{"$f":"IF(データ入力!$E$29=\"\",\"\",データ入力!$E$29)","v":""},{"$f":"IF(データ入力!$F$29=\"\",\"\",データ入力!$F$29)","v":""},null,{"$f":"IF(データ入力!$G$29=\"\",\"\",データ入力!$G$29)","v":""},null,null,{"$f":"IF(データ入力!$H$29=\"\",\"\",データ入力!$H$29)","v":""}]
[null,null,{"$f":"IF(データ入力!$D$29=\"\",\"\",データ入力!$D$29)","v":""}]
[20,null,{"$f":"IF(データ入力!$C$30=\"\",\"\",データ入力!$C$30)","v":""},{"$f":"IF(データ入力!$E$30=\"\",\"\",データ入力!$E$30)","v":""},{"$f":"IF(データ入力!$F$30=\"\",\"\",データ入力!$F$30)","v":""},null,{"$f":"IF(データ入力!$G$30=\"\",\"\",データ入力!$G$30)","v":""},null,null,{"$f":"IF(データ入力!$H$30=\"\",\"\",データ入力!$H$30)","v":""}]
[null,null,{"$f":"IF(データ入力!$D$30=\"\",\"\",データ入力!$D$30)","v":""}]
[21,null,{"$f":"IF(データ入力!$C$31=\"\",\"\",データ入力!$C$31)","v":""},{"$f":"IF(データ入力!$E$31=\"\",\"\",データ入力!$E$31)","v":""},{"$f":"IF(データ入力!$F$31=\"\",\"\",データ入力!$F$31)","v":""},null,{"$f":"IF(データ入力!$G$31=\"\",\"\",データ入力!$G$31)","v":""},null,null,{"$f":"IF(データ入力!$H$31=\"\",\"\",データ入力!$H$31)","v":""}]
[null,null,{"$f":"IF(データ入力!$D$31=\"\",\"\",データ入力!$D$31)","v":""}]
[22,null,{"$f":"IF(データ入力!$C$32=\"\",\"\",データ入力!$C$32)","v":""},{"$f":"IF(データ入力!$E$32=\"\",\"\",データ入力!$E$32)","v":""},{"$f":"IF(データ入力!$F$32=\"\",\"\",データ入力!$F$32)","v":""},null,{"$f":"IF(データ入力!$G$32=\"\",\"\",データ入力!$G$32)","v":""},null,null,{"$f":"IF(データ入力!$H$32=\"\",\"\",データ入力!$H$32)","v":""}]
[null,null,{"$f":"IF(データ入力!$D$32=\"\",\"\",データ入力!$D$32)","v":""}]
[23,null,{"$f":"IF(データ入力!$C$33=\"\",\"\",データ入力!$C$33)","v":""},{"$f":"IF(データ入力!$E$33=\"\",\"\",データ入力!$E$33)","v":""},{"$f":"IF(データ入力!$F$33=\"\",\"\",データ入力!$F$33)","v":""},null,{"$f":"IF(データ入力!$G$33=\"\",\"\",データ入力!$G$33)","v":""},null,null,{"$f":"IF(データ入力!$H$33=\"\",\"\",データ入力!$H$33)","v":""}]
[null,null,{"$f":"IF(データ入力!$D$33=\"\",\"\",データ入力!$D$33)","v":""}]
[24,null,{"$f":"IF(データ入力!$C$34=\"\",\"\",データ入力!$C$34)","v":""},{"$f":"IF(データ入力!$E$34=\"\",\"\",データ入力!$E$34)","v":""},{"$f":"IF(データ入力!$F$34=\"\",\"\",データ入力!$F$34)","v":""},null,{"$f":"IF(データ入力!$G$34=\"\",\"\",データ入力!$G$34)","v":""},null,null,{"$f":"IF(データ入力!$H$34=\"\",\"\",データ入力!$H$34)","v":""}]
[null,null,{"$f":"IF(データ入力!$D$34=\"\",\"\",データ入力!$D$34)","v":""}]
[25,null,{"$f":"IF(データ入力!$C$35=\"\",\"\",データ入力!$C$35)","v":""},{"$f":"IF(データ入力!$E$35=\"\",\"\",データ入力!$E$35)","v":""},{"$f":"IF(データ入力!$F$35=\"\",\"\",データ入力!$F$35)","v":""},null,{"$f":"IF(データ入力!$G$35=\"\",\"\",データ入力!$G$35)","v":""},null,null,{"$f":"IF(データ入力!$H$35=\"\",\"\",データ入力!$H$35)","v":""}]
[null,null,{"$f":"IF(データ入力!$D$35=\"\",\"\",データ入力!$D$35)","v":""}]
[26,null,{"$f":"IF(データ入力!$C$36=\"\",\"\",データ入力!$C$36)","v":""},{"$f":"IF(データ入力!$E$36=\"\",\"\",データ入力!$E$36)","v":""},{"$f":"IF(データ入力!$F$36=\"\",\"\",データ入力!$F$36)","v":""},null,{"$f":"IF(データ入力!$G$36=\"\",\"\",データ入力!$G$36)","v":""},null,null,{"$f":"IF(データ入力!$H$36=\"\",\"\",データ入力!$H$36)","v":""}]
[null,null,{"$f":"IF(データ入力!$D$36=\"\",\"\",データ入力!$D$36)","v":""}]
[27,null,{"$f":"IF(データ入力!$C$37=\"\",\"\",データ入力!$C$37)","v":""},{"$f":"IF(データ入力!$E$37=\"\",\"\",データ入力!$E$37)","v":""},{"$f":"IF(データ入力!$F$37=\"\",\"\",データ入力!$F$37)","v":""},null,{"$f":"IF(データ入力!$G$37=\"\",\"\",データ入力!$G$37)","v":""},null,null,{"$f":"IF(データ入力!$H$37=\"\",\"\",データ入力!$H$37)","v":""}]
[null,null,{"$f":"IF(データ入力!$D$37=\"\",\"\",データ入力!$D$37)","v":""}]
[28,null,{"$f":"IF(データ入力!$C$38=\"\",\"\",データ入力!$C$38)","v":""},{"$f":"IF(データ入力!$E$38=\"\",\"\",データ入力!$E$38)","v":""},{"$f":"IF(データ入力!$F$38=\"\",\"\",データ入力!$F$38)","v":""},null,{"$f":"IF(データ入力!$G$38=\"\",\"\",データ入力!$G$38)","v":""},null,null,{"$f":"IF(データ入力!$H$38=\"\",\"\",データ入力!$H$38)","v":""}]
[null,null,{"$f":"IF(データ入力!$D$38=\"\",\"\",データ入力!$D$38)","v":""}]
[29,null,{"$f":"IF(データ入力!$C$39=\"\",\"\",データ入力!$C$39)","v":""},{"$f":"IF(データ入力!$E$39=\"\",\"\",データ入力!$E$39)","v":""},{"$f":"IF(データ入力!$F$39=\"\",\"\",データ入力!$F$39)","v":""},null,{"$f":"IF(データ入力!$G$39=\"\",\"\",データ入力!$G$39)","v":""},null,null,{"$f":"IF(データ入力!$H$39=\"\",\"\",データ入力!$H$39)","v":""}]
[null,null,{"$f":"IF(データ入力!$D$39=\"\",\"\",データ入力!$D$39)","v":""}]
[30,null,{"$f":"IF(データ入力!$C$40=\"\",\"\",データ入力!$C$40)","v":""},{"$f":"IF(データ入力!$E$40=\"\",\"\",データ入力!$E$40)","v":""},{"$f":"IF(データ入力!$F$40=\"\",\"\",データ入力!$F$40)","v":""},null,{"$f":"IF(データ入力!$G$40=\"\",\"\",データ入力!$G$40)","v":""},null,null,{"$f":"IF(データ入力!$H$40=\"\",\"\",データ入力!$H$40)","v":""}]
[null,null,{"$f":"IF(データ入力!$D$40=\"\",\"\",データ入力!$D$40)","v":""}]
[31,null,{"$f":"IF(データ入力!$C$41=\"\",\"\",データ入力!$C$41)","v":""},{"$f":"IF(データ入力!$E$41=\"\",\"\",データ入力!$E$41)","v":""},{"$f":"IF(データ入力!$F$41=\"\",\"\",データ入力!$F$41)","v":""},null,{"$f":"IF(データ入力!$G$41=\"\",\"\",データ入力!$G$41)","v":""},null,null,{"$f":"IF(データ入力!$H$41=\"\",\"\",データ入力!$H$41)","v":""}]
[null,null,{"$f":"IF(データ入力!$D$41=\"\",\"\",データ入力!$D$41)","v":""}]
[32,null,{"$f":"IF(データ入力!$C$42=\"\",\"\",データ入力!$C$42)","v":""},{"$f":"IF(データ入力!$E$42=\"\",\"\",データ入力!$E$42)","v":""},{"$f":"IF(データ入力!$F$42=\"\",\"\",データ入力!$F$42)","v":""},null,{"$f":"IF(データ入力!$G$42=\"\",\"\",データ入力!$G$42)","v":""},null,null,{"$f":"IF(データ入力!$H$42=\"\",\"\",データ入力!$H$42)","v":""}]
[null,null,{"$f":"IF(データ入力!$D$42=\"\",\"\",データ入力!$D$42)","v":""}]
[33,null,{"$f":"IF(データ入力!$C$43=\"\",\"\",データ入力!$C$43)","v":""},{"$f":"IF(データ入力!$E$43=\"\",\"\",データ入力!$E$43)","v":""},{"$f":"IF(データ入力!$F$43=\"\",\"\",データ入力!$F$43)","v":""},null,{"$f":"IF(データ入力!$G$43=\"\",\"\",データ入力!$G$43)","v":""},null,null,{"$f":"IF(データ入力!$H$43=\"\",\"\",データ入力!$H$43)","v":""}]
[null,null,{"$f":"IF(データ入力!$D$43=\"\",\"\",データ入力!$D$43)","v":""}]
[34,null,{"$f":"IF(データ入力!$C$44=\"\",\"\",データ入力!$C$44)","v":""},{"$f":"IF(データ入力!$E$44=\"\",\"\",データ入力!$E$44)","v":""},{"$f":"IF(データ入力!$F$44=\"\",\"\",データ入力!$F$44)","v":""},null,{"$f":"IF(データ入力!$G$44=\"\",\"\",データ入力!$G$44)","v":""},null,null,{"$f":"IF(データ入力!$H$44=\"\",\"\",データ入力!$H$44)","v":""}]
[null,null,{"$f":"IF(データ入力!$D$44=\"\",\"\",データ入力!$D$44)","v":""}]
[35,null,{"$f":"IF(データ入力!$C$45=\"\",\"\",データ入力!$C$45)","v":""},{"$f":"IF(データ入力!$E$45=\"\",\"\",データ入力!$E$45)","v":""},{"$f":"IF(データ入力!$F$45=\"\",\"\",データ入力!$F$45)","v":""},null,{"$f":"IF(データ入力!$G$45=\"\",\"\",データ入力!$G$45)","v":""},null,null,{"$f":"IF(データ入力!$H$45=\"\",\"\",データ入力!$H$45)","v":""}]
[null,null,{"$f":"IF(データ入力!$D$45=\"\",\"\",データ入力!$D$45)","v":""}]
[36,null,{"$f":"IF(データ入力!$C$46=\"\",\"\",データ入力!$C$46)","v":""},{"$f":"IF(データ入力!$E$46=\"\",\"\",データ入力!$E$46)","v":""},{"$f":"IF(データ入力!$F$46=\"\",\"\",データ入力!$F$46)","v":""},null,{"$f":"IF(データ入力!$G$46=\"\",\"\",データ入力!$G$46)","v":""},null,null,{"$f":"IF(データ入力!$H$46=\"\",\"\",データ入力!$H$46)","v":""}]
[null,null,{"$f":"IF(データ入力!$D$46=\"\",\"\",データ入力!$D$46)","v":""}]
[37,null,{"$f":"IF(データ入力!$C$47=\"\",\"\",データ入力!$C$47)","v":""},{"$f":"IF(データ入力!$E$47=\"\",\"\",データ入力!$E$47)","v":""},{"$f":"IF(データ入力!$F$47=\"\",\"\",データ入力!$F$47)","v":""},null,{"$f":"IF(データ入力!$G$47=\"\",\"\",データ入力!$G$47)","v":""},null,null,{"$f":"IF(データ入力!$H$47=\"\",\"\",データ入力!$H$47)","v":""}]
[null,null,{"$f":"IF(データ入力!$D$47=\"\",\"\",データ入力!$D$47)","v":""}]
[38,null,{"$f":"IF(データ入力!$C$48=\"\",\"\",データ入力!$C$48)","v":""},{"$f":"IF(データ入力!$E$48=\"\",\"\",データ入力!$E$48)","v":""},{"$f":"IF(データ入力!$F$48=\"\",\"\",データ入力!$F$48)","v":""},null,{"$f":"IF(データ入力!$G$48=\"\",\"\",データ入力!$G$48)","v":""},null,null,{"$f":"IF(データ入力!$H$48=\"\",\"\",データ入力!$H$48)","v":""}]
[null,null,{"$f":"IF(データ入力!$D$48=\"\",\"\",データ入力!$D$48)","v":""}]
[39,null,{"$f":"IF(データ入力!$C$49=\"\",\"\",データ入力!$C$49)","v":""},{"$f":"IF(データ入力!$E$49=\"\",\"\",データ入力!$E$49)","v":""},{"$f":"IF(データ入力!$F$49=\"\",\"\",データ入力!$F$49)","v":""},null,{"$f":"IF(データ入力!$G$49=\"\",\"\",データ入力!$G$49)","v":""},null,null,{"$f":"IF(データ入力!$H$49=\"\",\"\",データ入力!$H$49)","v":""}]
[null,null,{"$f":"IF(データ入力!$D$49=\"\",\"\",データ入力!$D$49)","v":""}]
[40,null,{"$f":"IF(データ入力!$C$50=\"\",\"\",データ入力!$C$50)","v":""},{"$f":"IF(データ入力!$E$50=\"\",\"\",データ入力!$E$50)","v":""},{"$f":"IF(データ入力!$F$50=\"\",\"\",データ入力!$F$50)","v":""},null,{"$f":"IF(データ入力!$G$50=\"\",\"\",データ入力!$G$50)","v":""},null,null,{"$f":"IF(データ入力!$H$50=\"\",\"\",データ入力!$H$50)","v":""}]
[null,null,{"$f":"IF(データ入力!$D$50=\"\",\"\",データ入力!$D$50)","v":""}]
[41,null,{"$f":"IF(データ入力!$C$51=\"\",\"\",データ入力!$C$51)","v":""},{"$f":"IF(データ入力!$E$51=\"\",\"\",データ入力!$E$51)","v":""},{"$f":"IF(データ入力!$F$51=\"\",\"\",データ入力!$F$51)","v":""},null,{"$f":"IF(データ入力!$G$51=\"\",\"\",データ入力!$G$51)","v":""},null,null,{"$f":"IF(データ入力!$H$51=\"\",\"\",データ入力!$H$51)","v":""}]
[null,null,{"$f":"IF(データ入力!$D$51=\"\",\"\",データ入力!$D$51)","v":""}]
[42,null,{"$f":"IF(データ入力!$C$52=\"\",\"\",データ入力!$C$52)","v":""},{"$f":"IF(データ入力!$E$52=\"\",\"\",データ入力!$E$52)","v":""},{"$f":"IF(データ入力!$F$52=\"\",\"\",データ入力!$F$52)","v":""},null,{"$f":"IF(データ入力!$G$52=\"\",\"\",データ入力!$G$52)","v":""},null,null,{"$f":"IF(データ入力!$H$52=\"\",\"\",データ入力!$H$52)","v":""}]
[null,null,{"$f":"IF(データ入力!$D$52=\"\",\"\",データ入力!$D$52)","v":""}]
[43,null,{"$f":"IF(データ入力!$C$53=\"\",\"\",データ入力!$C$53)","v":""},{"$f":"IF(データ入力!$E$53=\"\",\"\",データ入力!$E$53)","v":""},{"$f":"IF(データ入力!$F$53=\"\",\"\",データ入力!$F$53)","v":""},null,{"$f":"IF(データ入力!$G$53=\"\",\"\",データ入力!$G$53)","v":""},null,null,{"$f":"IF(データ入力!$H$53=\"\",\"\",データ入力!$H$53)","v":""}]
[null,null,{"$f":"IF(データ入力!$D$53=\"\",\"\",データ入力!$D$53)","v":""}]
[44,null,{"$f":"IF(データ入力!$C$54=\"\",\"\",データ入力!$C$54)","v":""},{"$f":"IF(データ入力!$E$54=\"\",\"\",データ入力!$E$54)","v":""},{"$f":"IF(データ入力!$F$54=\"\",\"\",データ入力!$F$54)","v":""},null,{"$f":"IF(データ入力!$G$54=\"\",\"\",データ入力!$G$54)","v":""},null,null,{"$f":"IF(データ入力!$H$54=\"\",\"\",データ入力!$H$54)","v":""}]
[null,null,{"$f":"IF(データ入力!$D$54=\"\",\"\",データ入力!$D$54)","v":""}]
[45,null,{"$f":"IF(データ入力!$C$55=\"\",\"\",データ入力!$C$55)","v":""},{"$f":"IF(データ入力!$E$55=\"\",\"\",データ入力!$E$55)","v":""},{"$f":"IF(データ入力!$F$55=\"\",\"\",データ入力!$F$55)","v":""},null,{"$f":"IF(データ入力!$G$55=\"\",\"\",データ入力!$G$55)","v":""},null,null,{"$f":"IF(データ入力!$H$55=\"\",\"\",データ入力!$H$55)","v":""}]
[null,null,{"$f":"IF(データ入力!$D$55=\"\",\"\",データ入力!$D$55)","v":""}]
[46,null,{"$f":"IF(データ入力!$C$56=\"\",\"\",データ入力!$C$56)","v":""},{"$f":"IF(データ入力!$E$56=\"\",\"\",データ入力!$E$56)","v":""},{"$f":"IF(データ入力!$F$56=\"\",\"\",データ入力!$F$56)","v":""},null,{"$f":"IF(データ入力!$G$56=\"\",\"\",データ入力!$G$56)","v":""},null,null,{"$f":"IF(データ入力!$H$56=\"\",\"\",データ入力!$H$56)","v":""}]
[null,null,{"$f":"IF(データ入力!$D$56=\"\",\"\",データ入力!$D$56)","v":""}]
[47,null,{"$f":"IF(データ入力!$C$57=\"\",\"\",データ入力!$C$57)","v":""},{"$f":"IF(データ入力!$E$57=\"\",\"\",データ入力!$E$57)","v":""},{"$f":"IF(データ入力!$F$57=\"\",\"\",データ入力!$F$57)","v":""},null,{"$f":"IF(データ入力!$G$57=\"\",\"\",データ入力!$G$57)","v":""},null,null,{"$f":"IF(データ入力!$H$57=\"\",\"\",データ入力!$H$57)","v":""}]
[null,null,{"$f":"IF(データ入力!$D$57=\"\",\"\",データ入力!$D$57)","v":""}]
[48,null,{"$f":"IF(データ入力!$C$58=\"\",\"\",データ入力!$C$58)","v":""},{"$f":"IF(データ入力!$E$58=\"\",\"\",データ入力!$E$58)","v":""},{"$f":"IF(データ入力!$F$58=\"\",\"\",データ入力!$F$58)","v":""},null,{"$f":"IF(データ入力!$G$58=\"\",\"\",データ入力!$G$58)","v":""},null,null,{"$f":"IF(データ入力!$H$58=\"\",\"\",データ入力!$H$58)","v":""}]
[null,null,{"$f":"IF(データ入力!$D$58=\"\",\"\",データ入力!$D$58)","v":""}]
[49,null,{"$f":"IF(データ入力!$C$59=\"\",\"\",データ入力!$C$59)","v":""},{"$f":"IF(データ入力!$E$59=\"\",\"\",データ入力!$E$59)","v":""},{"$f":"IF(データ入力!$F$59=\"\",\"\",データ入力!$F$59)","v":""},null,{"$f":"IF(データ入力!$G$59=\"\",\"\",データ入力!$G$59)","v":""},null,null,{"$f":"IF(データ入力!$H$59=\"\",\"\",データ入力!$H$59)","v":""}]
[null,null,{"$f":"IF(データ入力!$D$59=\"\",\"\",データ入力!$D$59)","v":""}]
[50,null,{"$f":"IF(データ入力!$C$60=\"\",\"\",データ入力!$C$60)","v":""},{"$f":"IF(データ入力!$E$60=\"\",\"\",データ入力!$E$60)","v":""},{"$f":"IF(データ入力!$F$60=\"\",\"\",データ入力!$F$60)","v":""},null,{"$f":"IF(データ入力!$G$60=\"\",\"\",データ入力!$G$60)","v":""},null,null,{"$f":"IF(データ入力!$H$60=\"\",\"\",データ入力!$H$60)","v":""}]
[null,null,{"$f":"IF(データ入力!$D$60=\"\",\"\",データ入力!$D$60)","v":""}]
[51,null,{"$f":"IF(データ入力!$C$61=\"\",\"\",データ入力!$C$61)","v":""},{"$f":"IF(データ入力!$E$61=\"\",\"\",データ入力!$E$61)","v":""},{"$f":"IF(データ入力!$F$61=\"\",\"\",データ入力!$F$61)","v":""},null,{"$f":"IF(データ入力!$G$61=\"\",\"\",データ入力!$G$61)","v":""},null,null,{"$f":"IF(データ入力!$H$61=\"\",\"\",データ入力!$H$61)","v":""}]
[null,null,{"$f":"IF(データ入力!$D$61=\"\",\"\",データ入力!$D$61)","v":""}]
[52,null,{"$f":"IF(データ入力!$C$62=\"\",\"\",データ入力!$C$62)","v":""},{"$f":"IF(データ入力!$E$62=\"\",\"\",データ入力!$E$62)","v":""},{"$f":"IF(データ入力!$F$62=\"\",\"\",データ入力!$F$62)","v":""},null,{"$f":"IF(データ入力!$G$62=\"\",\"\",データ入力!$G$62)","v":""},null,null,{"$f":"IF(データ入力!$H$62=\"\",\"\",データ入力!$H$62)","v":""}]
[null,null,{"$f":"IF(データ入力!$D$62=\"\",\"\",データ入力!$D$62)","v":""}]
[53,null,{"$f":"IF(データ入力!$C$63=\"\",\"\",データ入力!$C$63)","v":""},{"$f":"IF(データ入力!$E$63=\"\",\"\",データ入力!$E$63)","v":""},{"$f":"IF(データ入力!$F$63=\"\",\"\",データ入力!$F$63)","v":""},null,{"$f":"IF(データ入力!$G$63=\"\",\"\",データ入力!$G$63)","v":""},null,null,{"$f":"IF(データ入力!$H$63=\"\",\"\",データ入力!$H$63)","v":""}]
[null,null,{"$f":"IF(データ入力!$D$63=\"\",\"\",データ入力!$D$63)","v":""}]
[54,null,{"$f":"IF(データ入力!$C$64=\"\",\"\",データ入力!$C$64)","v":""},{"$f":"IF(データ入力!$E$64=\"\",\"\",データ入力!$E$64)","v":""},{"$f":"IF(データ入力!$F$64=\"\",\"\",データ入力!$F$64)","v":""},null,{"$f":"IF(データ入力!$G$64=\"\",\"\",データ入力!$G$64)","v":""},null,null,{"$f":"IF(データ入力!$H$64=\"\",\"\",データ入力!$H$64)","v":""}]
[null,null,{"$f":"IF(データ入力!$D$64=\"\",\"\",データ入力!$D$64)","v":""}]
[55,null,{"$f":"IF(データ入力!$C$65=\"\",\"\",データ入力!$C$65)","v":""},{"$f":"IF(データ入力!$E$65=\"\",\"\",データ入力!$E$65)","v":""},{"$f":"IF(データ入力!$F$65=\"\",\"\",データ入力!$F$65)","v":""},null,{"$f":"IF(データ入力!$G$65=\"\",\"\",データ入力!$G$65)","v":""},null,null,{"$f":"IF(データ入力!$H$65=\"\",\"\",データ入力!$H$65)","v":""}]
[null,null,{"$f":"IF(データ入力!$D$65=\"\",\"\",データ入力!$D$65)","v":""}]
[56,null,{"$f":"IF(データ入力!$C$66=\"\",\"\",データ入力!$C$66)","v":""},{"$f":"IF(データ入力!$E$66=\"\",\"\",データ入力!$E$66)","v":""},{"$f":"IF(データ入力!$F$66=\"\",\"\",データ入力!$F$66)","v":""},null,{"$f":"IF(データ入力!$G$66=\"\",\"\",データ入力!$G$66)","v":""},null,null,{"$f":"IF(データ入力!$H$66=\"\",\"\",データ入力!$H$66)","v":""}]
[null,null,{"$f":"IF(データ入力!$D$66=\"\",\"\",データ入力!$D$66)","v":""}]
[57,null,{"$f":"IF(データ入力!$C$67=\"\",\"\",データ入力!$C$67)","v":""},{"$f":"IF(データ入力!$E$67=\"\",\"\",データ入力!$E$67)","v":""},{"$f":"IF(データ入力!$F$67=\"\",\"\",データ入力!$F$67)","v":""},null,{"$f":"IF(データ入力!$G$67=\"\",\"\",データ入力!$G$67)","v":""},null,null,{"$f":"IF(データ入力!$H$67=\"\",\"\",データ入力!$H$67)","v":""}]
[null,null,{"$f":"IF(データ入力!$D$67=\"\",\"\",データ入力!$D$67)","v":""}]
[58,null,{"$f":"IF(データ入力!$C$68=\"\",\"\",データ入力!$C$68)","v":""},{"$f":"IF(データ入力!$E$68=\"\",\"\",データ入力!$E$68)","v":""},{"$f":"IF(データ入力!$F$68=\"\",\"\",データ入力!$F$68)","v":""},null,{"$f":"IF(データ入力!$G$68=\"\",\"\",データ入力!$G$68)","v":""},null,null,{"$f":"IF(データ入力!$H$68=\"\",\"\",データ入力!$H$68)","v":""}]
[null,null,{"$f":"IF(データ入力!$D$68=\"\",\"\",データ入力!$D$68)","v":""}]
[59,null,{"$f":"IF(データ入力!$C$69=\"\",\"\",データ入力!$C$69)","v":""},{"$f":"IF(データ入力!$E$69=\"\",\"\",データ入力!$E$69)","v":""},{"$f":"IF(データ入力!$F$69=\"\",\"\",データ入力!$F$69)","v":""},null,{"$f":"IF(データ入力!$G$69=\"\",\"\",データ入力!$G$69)","v":""},null,null,{"$f":"IF(データ入力!$H$69=\"\",\"\",データ入力!$H$69)","v":""}]
[null,null,{"$f":"IF(データ入力!$D$69=\"\",\"\",データ入力!$D$69)","v":""}]
[60,null,{"$f":"IF(データ入力!$C$70=\"\",\"\",データ入力!$C$70)","v":""},{"$f":"IF(データ入力!$E$70=\"\",\"\",データ入力!$E$70)","v":""},{"$f":"IF(データ入力!$F$70=\"\",\"\",データ入力!$F$70)","v":""},null,{"$f":"IF(データ入力!$G$70=\"\",\"\",データ入力!$G$70)","v":""},null,null,{"$f":"IF(データ入力!$H$70=\"\",\"\",データ入力!$H$70)","v":""}]
[null,null,{"$f":"IF(データ入力!$D$70=\"\",\"\",データ入力!$D$70)","v":""}]
[61,null,{"$f":"IF(データ入力!$C$71=\"\",\"\",データ入力!$C$71)","v":""},{"$f":"IF(データ入力!$E$71=\"\",\"\",データ入力!$E$71)","v":""},{"$f":"IF(データ入力!$F$71=\"\",\"\",データ入力!$F$71)","v":""},null,{"$f":"IF(データ入力!$G$71=\"\",\"\",データ入力!$G$71)","v":""},null,null,{"$f":"IF(データ入力!$H$71=\"\",\"\",データ入力!$H$71)","v":""}]
[null,null,{"$f":"IF(データ入力!$D$71=\"\",\"\",データ入力!$D$71)","v":""}]
[62,null,{"$f":"IF(データ入力!$C$72=\"\",\"\",データ入力!$C$72)","v":""},{"$f":"IF(データ入力!$E$72=\"\",\"\",データ入力!$E$72)","v":""},{"$f":"IF(データ入力!$F$72=\"\",\"\",データ入力!$F$72)","v":""},null,{"$f":"IF(データ入力!$G$72=\"\",\"\",データ入力!$G$72)","v":""},null,null,{"$f":"IF(データ入力!$H$72=\"\",\"\",データ入力!$H$72)","v":""}]
[null,null,{"$f":"IF(データ入力!$D$72=\"\",\"\",データ入力!$D$72)","v":""}]
[63,null,{"$f":"IF(データ入力!$C$73=\"\",\"\",データ入力!$C$73)","v":""},{"$f":"IF(データ入力!$E$73=\"\",\"\",データ入力!$E$73)","v":""},{"$f":"IF(データ入力!$F$73=\"\",\"\",データ入力!$F$73)","v":""},null,{"$f":"IF(データ入力!$G$73=\"\",\"\",データ入力!$G$73)","v":""},null,null,{"$f":"IF(データ入力!$H$73=\"\",\"\",データ入力!$H$73)","v":""}]
[null,null,{"$f":"IF(データ入力!$D$73=\"\",\"\",データ入力!$D$73)","v":""}]
[64,null,{"$f":"IF(データ入力!$C$74=\"\",\"\",データ入力!$C$74)","v":""},{"$f":"IF(データ入力!$E$74=\"\",\"\",データ入力!$E$74)","v":""},{"$f":"IF(データ入力!$F$74=\"\",\"\",データ入力!$F$74)","v":""},null,{"$f":"IF(データ入力!$G$74=\"\",\"\",データ入力!$G$74)","v":""},null,null,{"$f":"IF(データ入力!$H$74=\"\",\"\",データ入力!$H$74)","v":""}]
[null,null,{"$f":"IF(データ入力!$D$74=\"\",\"\",データ入力!$D$74)","v":""}]
[65,null,{"$f":"IF(データ入力!$C$75=\"\",\"\",データ入力!$C$75)","v":""},{"$f":"IF(データ入力!$E$75=\"\",\"\",データ入力!$E$75)","v":""},{"$f":"IF(データ入力!$F$75=\"\",\"\",データ入力!$F$75)","v":""},null,{"$f":"IF(データ入力!$G$75=\"\",\"\",データ入力!$G$75)","v":""},null,null,{"$f":"IF(データ入力!$H$75=\"\",\"\",データ入力!$H$75)","v":""}]
[null,null,{"$f":"IF(データ入力!$D$75=\"\",\"\",データ入力!$D$75)","v":""}]
[66,null,{"$f":"IF(データ入力!$C$76=\"\",\"\",データ入力!$C$76)","v":""},{"$f":"IF(データ入力!$E$76=\"\",\"\",データ入力!$E$76)","v":""},{"$f":"IF(データ入力!$F$76=\"\",\"\",データ入力!$F$76)","v":""},null,{"$f":"IF(データ入力!$G$76=\"\",\"\",データ入力!$G$76)","v":""},null,null,{"$f":"IF(データ入力!$H$76=\"\",\"\",データ入力!$H$76)","v":""}]
[null,null,{"$f":"IF(データ入力!$D$76=\"\",\"\",データ入力!$D$76)","v":""}]
[67,null,{"$f":"IF(データ入力!$C$77=\"\",\"\",データ入力!$C$77)","v":""},{"$f":"IF(データ入力!$E$77=\"\",\"\",データ入力!$E$77)","v":""},{"$f":"IF(データ入力!$F$77=\"\",\"\",データ入力!$F$77)","v":""},null,{"$f":"IF(データ入力!$G$77=\"\",\"\",データ入力!$G$77)","v":""},null,null,{"$f":"IF(データ入力!$H$77=\"\",\"\",データ入力!$H$77)","v":""}]
[null,null,{"$f":"IF(データ入力!$D$77=\"\",\"\",データ入力!$D$77)","v":""}]
[68,null,{"$f":"IF(データ入力!$C$78=\"\",\"\",データ入力!$C$78)","v":""},{"$f":"IF(データ入力!$E$78=\"\",\"\",データ入力!$E$78)","v":""},{"$f":"IF(データ入力!$F$78=\"\",\"\",データ入力!$F$78)","v":""},null,{"$f":"IF(データ入力!$G$78=\"\",\"\",データ入力!$G$78)","v":""},null,null,{"$f":"IF(データ入力!$H$78=\"\",\"\",データ入力!$H$78)","v":""}]
[null,null,{"$f":"IF(データ入力!$D$78=\"\",\"\",データ入力!$D$78)","v":""}]
[69,null,{"$f":"IF(データ入力!$C$79=\"\",\"\",データ入力!$C$79)","v":""},{"$f":"IF(データ入力!$E$79=\"\",\"\",データ入力!$E$79)","v":""},{"$f":"IF(データ入力!$F$79=\"\",\"\",データ入力!$F$79)","v":""},null,{"$f":"IF(データ入力!$G$79=\"\",\"\",データ入力!$G$79)","v":""},null,null,{"$f":"IF(データ入力!$H$79=\"\",\"\",データ入力!$H$79)","v":""}]
[null,null,{"$f":"IF(データ入力!$D$79=\"\",\"\",データ入力!$D$79)","v":""}]
[70,null,{"$f":"IF(データ入力!$C$80=\"\",\"\",データ入力!$C$80)","v":""},{"$f":"IF(データ入力!$E$80=\"\",\"\",データ入力!$E$80)","v":""},{"$f":"IF(データ入力!$F$80=\"\",\"\",データ入力!$F$80)","v":""},null,{"$f":"IF(データ入力!$G$80=\"\",\"\",データ入力!$G$80)","v":""},null,null,{"$f":"IF(データ入力!$H$80=\"\",\"\",データ入力!$H$80)","v":""}]
[null,null,{"$f":"IF(データ入力!$D$80=\"\",\"\",データ入力!$D$80)","v":""}]
[71,null,{"$f":"IF(データ入力!$C$81=\"\",\"\",データ入力!$C$81)","v":""},{"$f":"IF(データ入力!$E$81=\"\",\"\",データ入力!$E$81)","v":""},{"$f":"IF(データ入力!$F$81=\"\",\"\",データ入力!$F$81)","v":""},null,{"$f":"IF(データ入力!$G$81=\"\",\"\",データ入力!$G$81)","v":""},null,null,{"$f":"IF(データ入力!$H$81=\"\",\"\",データ入力!$H$81)","v":""}]
[null,null,{"$f":"IF(データ入力!$D$81=\"\",\"\",データ入力!$D$81)","v":""}]
[72,null,{"$f":"IF(データ入力!$C$82=\"\",\"\",データ入力!$C$82)","v":""},{"$f":"IF(データ入力!$E$82=\"\",\"\",データ入力!$E$82)","v":""},{"$f":"IF(データ入力!$F$82=\"\",\"\",データ入力!$F$82)","v":""},null,{"$f":"IF(データ入力!$G$82=\"\",\"\",データ入力!$G$82)","v":""},null,null,{"$f":"IF(データ入力!$H$82=\"\",\"\",データ入力!$H$82)","v":""}]
[null,null,{"$f":"IF(データ入力!$D$82=\"\",\"\",データ入力!$D$82)","v":""}]
[73,null,{"$f":"IF(データ入力!$C$83=\"\",\"\",データ入力!$C$83)","v":""},{"$f":"IF(データ入力!$E$83=\"\",\"\",データ入力!$E$83)","v":""},{"$f":"IF(データ入力!$F$83=\"\",\"\",データ入力!$F$83)","v":""},null,{"$f":"IF(データ入力!$G$83=\"\",\"\",データ入力!$G$83)","v":""},null,null,{"$f":"IF(データ入力!$H$83=\"\",\"\",データ入力!$H$83)","v":""}]
[null,null,{"$f":"IF(データ入力!$D$83=\"\",\"\",データ入力!$D$83)","v":""}]
[74,null,{"$f":"IF(データ入力!$C$84=\"\",\"\",データ入力!$C$84)","v":""},{"$f":"IF(データ入力!$E$84=\"\",\"\",データ入力!$E$84)","v":""},{"$f":"IF(データ入力!$F$84=\"\",\"\",データ入力!$F$84)","v":""},null,{"$f":"IF(データ入力!$G$84=\"\",\"\",データ入力!$G$84)","v":""},null,null,{"$f":"IF(データ入力!$H$84=\"\",\"\",データ入力!$H$84)","v":""}]
[null,null,{"$f":"IF(データ入力!$D$84=\"\",\"\",データ入力!$D$84)","v":""}]
[75,null,{"$f":"IF(データ入力!$C$85=\"\",\"\",データ入力!$C$85)","v":""},{"$f":"IF(データ入力!$E$85=\"\",\"\",データ入力!$E$85)","v":""},{"$f":"IF(データ入力!$F$85=\"\",\"\",データ入力!$F$85)","v":""},null,{"$f":"IF(データ入力!$G$85=\"\",\"\",データ入力!$G$85)","v":""},null,null,{"$f":"IF(データ入力!$H$85=\"\",\"\",データ入力!$H$85)","v":""}]
[null,null,{"$f":"IF(データ入力!$D$85=\"\",\"\",データ入力!$D$85)","v":""}]
[76,null,{"$f":"IF(データ入力!$C$86=\"\",\"\",データ入力!$C$86)","v":""},{"$f":"IF(データ入力!$E$86=\"\",\"\",データ入力!$E$86)","v":""},{"$f":"IF(データ入力!$F$86=\"\",\"\",データ入力!$F$86)","v":""},null,{"$f":"IF(データ入力!$G$86=\"\",\"\",データ入力!$G$86)","v":""},null,null,{"$f":"IF(データ入力!$H$86=\"\",\"\",データ入力!$H$86)","v":""}]
[null,null,{"$f":"IF(データ入力!$D$86=\"\",\"\",データ入力!$D$86)","v":""}]
[77,null,{"$f":"IF(データ入力!$C$87=\"\",\"\",データ入力!$C$87)","v":""},{"$f":"IF(データ入力!$E$87=\"\",\"\",データ入力!$E$87)","v":""},{"$f":"IF(データ入力!$F$87=\"\",\"\",データ入力!$F$87)","v":""},null,{"$f":"IF(データ入力!$G$87=\"\",\"\",データ入力!$G$87)","v":""},null,null,{"$f":"IF(データ入力!$H$87=\"\",\"\",データ入力!$H$87)","v":""}]
[null,null,{"$f":"IF(データ入力!$D$87=\"\",\"\",データ入力!$D$87)","v":""}]
[78,null,{"$f":"IF(データ入力!$C$88=\"\",\"\",データ入力!$C$88)","v":""},{"$f":"IF(データ入力!$E$88=\"\",\"\",データ入力!$E$88)","v":""},{"$f":"IF(データ入力!$F$88=\"\",\"\",データ入力!$F$88)","v":""},null,{"$f":"IF(データ入力!$G$88=\"\",\"\",データ入力!$G$88)","v":""},null,null,{"$f":"IF(データ入力!$H$88=\"\",\"\",データ入力!$H$88)","v":""}]
[null,null,{"$f":"IF(データ入力!$D$88=\"\",\"\",データ入力!$D$88)","v":""}]
[79,null,{"$f":"IF(データ入力!$C$89=\"\",\"\",データ入力!$C$89)","v":""},{"$f":"IF(データ入力!$E$89=\"\",\"\",データ入力!$E$89)","v":""},{"$f":"IF(データ入力!$F$89=\"\",\"\",データ入力!$F$89)","v":""},null,{"$f":"IF(データ入力!$G$89=\"\",\"\",データ入力!$G$89)","v":""},null,null,{"$f":"IF(データ入力!$H$89=\"\",\"\",データ入力!$H$89)","v":""}]
[null,null,{"$f":"IF(データ入力!$D$89=\"\",\"\",データ入力!$D$89)","v":""}]
[80,null,{"$f":"IF(データ入力!$C$90=\"\",\"\",データ入力!$C$90)","v":""},{"$f":"IF(データ入力!$E$90=\"\",\"\",データ入力!$E$90)","v":""},{"$f":"IF(データ入力!$F$90=\"\",\"\",データ入力!$F$90)","v":""},null,{"$f":"IF(データ入力!$G$90=\"\",\"\",データ入力!$G$90)","v":""},null,null,{"$f":"IF(データ入力!$H$90=\"\",\"\",データ入力!$H$90)","v":""}]
[null,null,{"$f":"IF(データ入力!$D$90=\"\",\"\",データ入力!$D$90)","v":""}]
[81,null,{"$f":"IF(データ入力!$C$91=\"\",\"\",データ入力!$C$91)","v":""},{"$f":"IF(データ入力!$E$91=\"\",\"\",データ入力!$E$91)","v":""},{"$f":"IF(データ入力!$F$91=\"\",\"\",データ入力!$F$91)","v":""},null,{"$f":"IF(データ入力!$G$91=\"\",\"\",データ入力!$G$91)","v":""},null,null,{"$f":"IF(データ入力!$H$91=\"\",\"\",データ入力!$H$91)","v":""}]
[null,null,{"$f":"IF(データ入力!$D$91=\"\",\"\",データ入力!$D$91)","v":""}]
[82,null,{"$f":"IF(データ入力!$C$92=\"\",\"\",データ入力!$C$92)","v":""},{"$f":"IF(データ入力!$E$92=\"\",\"\",データ入力!$E$92)","v":""},{"$f":"IF(データ入力!$F$92=\"\",\"\",データ入力!$F$92)","v":""},null,{"$f":"IF(データ入力!$G$92=\"\",\"\",データ入力!$G$92)","v":""},null,null,{"$f":"IF(データ入力!$H$92=\"\",\"\",データ入力!$H$92)","v":""}]
[null,null,{"$f":"IF(データ入力!$D$92=\"\",\"\",データ入力!$D$92)","v":""}]
[83,null,{"$f":"IF(データ入力!$C$93=\"\",\"\",データ入力!$C$93)","v":""},{"$f":"IF(データ入力!$E$93=\"\",\"\",データ入力!$E$93)","v":""},{"$f":"IF(データ入力!$F$93=\"\",\"\",データ入力!$F$93)","v":""},null,{"$f":"IF(データ入力!$G$93=\"\",\"\",データ入力!$G$93)","v":""},null,null,{"$f":"IF(データ入力!$H$93=\"\",\"\",データ入力!$H$93)","v":""}]
[null,null,{"$f":"IF(データ入力!$D$93=\"\",\"\",データ入力!$D$93)","v":""}]
[84,null,{"$f":"IF(データ入力!$C$94=\"\",\"\",データ入力!$C$94)","v":""},{"$f":"IF(データ入力!$E$94=\"\",\"\",データ入力!$E$94)","v":""},{"$f":"IF(データ入力!$F$94=\"\",\"\",データ入力!$F$94)","v":""},null,{"$f":"IF(データ入力!$G$94=\"\",\"\",データ入力!$G$94)","v":""},null,null,{"$f":"IF(データ入力!$H$94=\"\",\"\",データ入力!$H$94)","v":""}]
[null,null,{"$f":"IF(データ入力!$D$94=\"\",\"\",データ入力!$D$94)","v":""}]
[85,null,{"$f":"IF(データ入力!$C$95=\"\",\"\",データ入力!$C$95)","v":""},{"$f":"IF(データ入力!$E$95=\"\",\"\",データ入力!$E$95)","v":""},{"$f":"IF(データ入力!$F$95=\"\",\"\",データ入力!$F$95)","v":""},null,{"$f":"IF(データ入力!$G$95=\"\",\"\",データ入力!$G$95)","v":""},null,null,{"$f":"IF(データ入力!$H$95=\"\",\"\",データ入力!$H$95)","v":""}]
[null,null,{"$f":"IF(データ入力!$D$95=\"\",\"\",データ入力!$D$95)","v":""}]
[86,null,{"$f":"IF(データ入力!$C$96=\"\",\"\",データ入力!$C$96)","v":""},{"$f":"IF(データ入力!$E$96=\"\",\"\",データ入力!$E$96)","v":""},{"$f":"IF(データ入力!$F$96=\"\",\"\",データ入力!$F$96)","v":""},null,{"$f":"IF(データ入力!$G$96=\"\",\"\",データ入力!$G$96)","v":""},null,null,{"$f":"IF(データ入力!$H$96=\"\",\"\",データ入力!$H$96)","v":""}]
[null,null,{"$f":"IF(データ入力!$D$96=\"\",\"\",データ入力!$D$96)","v":""}]
[87,null,{"$f":"IF(データ入力!$C$97=\"\",\"\",データ入力!$C$97)","v":""},{"$f":"IF(データ入力!$E$97=\"\",\"\",データ入力!$E$97)","v":""},{"$f":"IF(データ入力!$F$97=\"\",\"\",データ入力!$F$97)","v":""},null,{"$f":"IF(データ入力!$G$97=\"\",\"\",データ入力!$G$97)","v":""},null,null,{"$f":"IF(データ入力!$H$97=\"\",\"\",データ入力!$H$97)","v":""}]
[null,null,{"$f":"IF(データ入力!$D$97=\"\",\"\",データ入力!$D$97)","v":""}]
[88,null,{"$f":"IF(データ入力!$C$98=\"\",\"\",データ入力!$C$98)","v":""},{"$f":"IF(データ入力!$E$98=\"\",\"\",データ入力!$E$98)","v":""},{"$f":"IF(データ入力!$F$98=\"\",\"\",データ入力!$F$98)","v":""},null,{"$f":"IF(データ入力!$G$98=\"\",\"\",データ入力!$G$98)","v":""},null,null,{"$f":"IF(データ入力!$H$98=\"\",\"\",データ入力!$H$98)","v":""}]
[null,null,{"$f":"IF(データ入力!$D$98=\"\",\"\",データ入力!$D$98)","v":""}]
[89,null,{"$f":"IF(データ入力!$C$99=\"\",\"\",データ入力!$C$99)","v":""},{"$f":"IF(データ入力!$E$99=\"\",\"\",データ入力!$E$99)","v":""},{"$f":"IF(データ入力!$F$99=\"\",\"\",データ入力!$F$99)","v":""},null,{"$f":"IF(データ入力!$G$99=\"\",\"\",データ入力!$G$99)","v":""},null,null,{"$f":"IF(データ入力!$H$99=\"\",\"\",データ入力!$H$99)","v":""}]
[null,null,{"$f":"IF(データ入力!$D$99=\"\",\"\",データ入力!$D$99)","v":""}]
[90,null,{"$f":"IF(データ入力!$C$100=\"\",\"\",データ入力!$C$100)","v":""},{"$f":"IF(データ入力!$E$100=\"\",\"\",データ入力!$E$100)","v":""},{"$f":"IF(データ入力!$F$100=\"\",\"\",データ入力!$F$100)","v":""},null,{"$f":"IF(データ入力!$G$100=\"\",\"\",データ入力!$G$100)","v":""},null,null,{"$f":"IF(データ入力!$H$100=\"\",\"\",データ入力!$H$100)","v":""}]
[null,null,{"$f":"IF(データ入力!$D$100=\"\",\"\",データ入力!$D$100)","v":""}]
[91,null,{"$f":"IF(データ入力!$C$101=\"\",\"\",データ入力!$C$101)","v":""},{"$f":"IF(データ入力!$E$101=\"\",\"\",データ入力!$E$101)","v":""},{"$f":"IF(データ入力!$F$101=\"\",\"\",データ入力!$F$101)","v":""},null,{"$f":"IF(データ入力!$G$101=\"\",\"\",データ入力!$G$101)","v":""},null,null,{"$f":"IF(データ入力!$H$101=\"\",\"\",データ入力!$H$101)","v":""}]
[null,null,{"$f":"IF(データ入力!$D$101=\"\",\"\",データ入力!$D$101)","v":""}]
[92,null,{"$f":"IF(データ入力!$C$102=\"\",\"\",データ入力!$C$102)","v":""},{"$f":"IF(データ入力!$E$102=\"\",\"\",データ入力!$E$102)","v":""},{"$f":"IF(データ入力!$F$102=\"\",\"\",データ入力!$F$102)","v":""},null,{"$f":"IF(データ入力!$G$102=\"\",\"\",データ入力!$G$102)","v":""},null,null,{"$f":"IF(データ入力!$H$102=\"\",\"\",データ入力!$H$102)","v":""}]
[null,null,{"$f":"IF(データ入力!$D$102=\"\",\"\",データ入力!$D$102)","v":""}]
[93,null,{"$f":"IF(データ入力!$C$103=\"\",\"\",データ入力!$C$103)","v":""},{"$f":"IF(データ入力!$E$103=\"\",\"\",データ入力!$E$103)","v":""},{"$f":"IF(データ入力!$F$103=\"\",\"\",データ入力!$F$103)","v":""},null,{"$f":"IF(データ入力!$G$103=\"\",\"\",データ入力!$G$103)","v":""},null,null,{"$f":"IF(データ入力!$H$103=\"\",\"\",データ入力!$H$103)","v":""}]
[null,null,{"$f":"IF(データ入力!$D$103=\"\",\"\",データ入力!$D$103)","v":""}]
[94,null,{"$f":"IF(データ入力!$C$104=\"\",\"\",データ入力!$C$104)","v":""},{"$f":"IF(データ入力!$E$104=\"\",\"\",データ入力!$E$104)","v":""},{"$f":"IF(データ入力!$F$104=\"\",\"\",データ入力!$F$104)","v":""},null,{"$f":"IF(データ入力!$G$104=\"\",\"\",データ入力!$G$104)","v":""},null,null,{"$f":"IF(データ入力!$H$104=\"\",\"\",データ入力!$H$104)","v":""}]
[null,null,{"$f":"IF(データ入力!$D$104=\"\",\"\",データ入力!$D$104)","v":""}]
[95,null,{"$f":"IF(データ入力!$C$105=\"\",\"\",データ入力!$C$105)","v":""},{"$f":"IF(データ入力!$E$105=\"\",\"\",データ入力!$E$105)","v":""},{"$f":"IF(データ入力!$F$105=\"\",\"\",データ入力!$F$105)","v":""},null,{"$f":"IF(データ入力!$G$105=\"\",\"\",データ入力!$G$105)","v":""},null,null,{"$f":"IF(データ入力!$H$105=\"\",\"\",データ入力!$H$105)","v":""}]
[null,null,{"$f":"IF(データ入力!$D$105=\"\",\"\",データ入力!$D$105)","v":""}]
[96,null,{"$f":"IF(データ入力!$C$106=\"\",\"\",データ入力!$C$106)","v":""},{"$f":"IF(データ入力!$E$106=\"\",\"\",データ入力!$E$106)","v":""},{"$f":"IF(データ入力!$F$106=\"\",\"\",データ入力!$F$106)","v":""},null,{"$f":"IF(データ入力!$G$106=\"\",\"\",データ入力!$G$106)","v":""},null,null,{"$f":"IF(データ入力!$H$106=\"\",\"\",データ入力!$H$106)","v":""}]
[null,null,{"$f":"IF(データ入力!$D$106=\"\",\"\",データ入力!$D$106)","v":""}]
[97,null,{"$f":"IF(データ入力!$C$107=\"\",\"\",データ入力!$C$107)","v":""},{"$f":"IF(データ入力!$E$107=\"\",\"\",データ入力!$E$107)","v":""},{"$f":"IF(データ入力!$F$107=\"\",\"\",データ入力!$F$107)","v":""},null,{"$f":"IF(データ入力!$G$107=\"\",\"\",データ入力!$G$107)","v":""},null,null,{"$f":"IF(データ入力!$H$107=\"\",\"\",データ入力!$H$107)","v":""}]
[null,null,{"$f":"IF(データ入力!$D$107=\"\",\"\",データ入力!$D$107)","v":""}]
[98,null,{"$f":"IF(データ入力!$C$108=\"\",\"\",データ入力!$C$108)","v":""},{"$f":"IF(データ入力!$E$108=\"\",\"\",データ入力!$E$108)","v":""},{"$f":"IF(データ入力!$F$108=\"\",\"\",データ入力!$F$108)","v":""},null,{"$f":"IF(データ入力!$G$108=\"\",\"\",データ入力!$G$108)","v":""},null,null,{"$f":"IF(データ入力!$H$108=\"\",\"\",データ入力!$H$108)","v":""}]
[null,null,{"$f":"IF(データ入力!$D$108=\"\",\"\",データ入力!$D$108)","v":""}]
[99,null,{"$f":"IF(データ入力!$C$109=\"\",\"\",データ入力!$C$109)","v":""},{"$f":"IF(データ入力!$E$109=\"\",\"\",データ入力!$E$109)","v":""},{"$f":"IF(データ入力!$F$109=\"\",\"\",データ入力!$F$109)","v":""},null,{"$f":"IF(データ入力!$G$109=\"\",\"\",データ入力!$G$109)","v":""},null,null,{"$f":"IF(データ入力!$H$109=\"\",\"\",データ入力!$H$109)","v":""}]
[null,null,{"$f":"IF(データ入力!$D$109=\"\",\"\",データ入力!$D$109)","v":""}]
["00",null,{"$f":"IF(データ入力!$C$110=\"\",\"\",データ入力!$C$110)","v":""},{"$f":"IF(データ入力!$E$110=\"\",\"\",データ入力!$E$110)","v":""},{"$f":"IF(データ入力!$F$110=\"\",\"\",データ入力!$F$110)","v":""},null,{"$f":"IF(データ入力!$G$110=\"\",\"\",データ入力!$G$110)","v":""},null,null,{"$f":"IF(データ入力!$H$110=\"\",\"\",データ入力!$H$110)","v":""}]
[null,null,{"$f":"IF(データ入力!$D$110=\"\",\"\",データ入力!$D$110)","v":""}]
["[END]","[END]","[END]","[END]","[END]","[END]","[END]",null,"[END]","[END]","[END]"]

{"sheet":"データ入力","index":1,"n_rows":110,"n_cols":23,"rows_kept":110,"cut":false,"hidden":false,"merged":[[3,1,6,1],[3,15,3,16],[6,6,6,7],[3,6,3,7],[4,9,4,12],[3,9,3,12],[8,5,8,6],[2,13,2,20],[3,13,3,14],[5,6,5,7],[2,6,2,7],[2,9,2,12],[4,6,4,7],[5,9,5,16],[6,9,6,16],[1,6,1,7],[1,9,1,12],[1,13,1,20],[4,13,4,20],[3,17,3,20]]}
[]
[null,"全豊田資格教育受講者入力シート",null,null,null,null,"1．高所作業教育受講者",null,null,"旧タイプの高所資格を所持していれば記入"]
[null,"(シート１の『資格登録･資格発行申請書』に反映されます)",null,null,null,null,"2．感電防止教育受講者",null,null,"旧タイプの感電資格を所持していれば記入"]
[null," 資格証に記載\n       あれば記入\n 2019.1.15以降交付\n 　　新資格証より",null,null,null,null,"3．作業責任者Ａ教育受講者(１日)",null,null,"必須資格です（ただし高所･感電連続受講時は不要）",null,null,null,null,null,"必須資格です"]
[null,null,null,null,null,null,"4．作業責任者Ｂ教育受講者(２日)",null,null,"必須資格です（ただし高所･感電連続受講時は不要）"]
[null,null,null,null,null,null,"5．作業責任者更新教育受講者",null,null,"必須資格です"]
[null,null,null,null,null,null,"6．工事責任者教育受講者",null,null,"必須資格です"]
["No.","ＩＤ番号\n(半角数字10ケタ)","フリガナ\n(半角のみ３０字まで)","氏名\n(全角15,半角30字まで)","生年月日\n(yyyy/mm/dd)","申請会社\n(全角２５字まで)","所属会社名\n(全角２５字まで)","点数","連続\n受講","高所資格番号\n(全角12字まで)","高所取得日\n(yyyy/mm/dd)","感電資格番号\n(全角12字まで)","感電取得日\n(yyyy/mm/dd)","作責番号\n(全角12字まで)","作責取得日\n(yyyy/mm/dd)","職長番号\n(全角12字まで)","職長取得日\n(yyyy/mm/dd)","安責者番号\n(全角12字まで)","安責取得日\n(yyyy/mm/dd)","工責番号\n(全角12字まで)","工責取得日\n(yyyy/mm/dd)","能力向上教育番号\n(全角12字まで)","能力向上取得日\n(yyyy/mm/dd)"]
["記入\n方法","新規は自動付与","　カタカナ半角で入力して下さい\n　(苗字と名前間はスペース)","　全角半角問いません\n (苗字と名前間はスペース)","ここは半角\n(西暦)"," 株式会社、（株）⇒㈱で記入して下さい　有限会社、（有）⇒㈲で記入して下さい\n 社団法人、（社）⇒㈳で記入して下さい　合名会社、（名）⇒㈴で記入して下さい",null,"70以上\n合格","右ｸﾘｯｸ1回で\n■印","英数字記号は半角\n漢字は全角で記入","ここは半角\n(西暦)","英数字記号は半角\n漢字は全角で記入","ここは半角\n(西暦)","英数字記号は半角\n漢字は全角で記入","有効期限から\n5年を引き算\n(西暦)","英数字記号は半角\n漢字は全角で記入","ここは半角\n(西暦)","英数字記号は半角\n漢字は全角で記入","ここは半角\n(西暦)","英数字記号は半角\n漢字は全角で記入","ここは半角\n(西暦)","英数字記号は半角\n漢字は全角で記入","ここは半角\n(西暦)"]
["例",2017012345,"ｼｶｸ ｼﾝｼﾞﾛｳ","資格　慎次郎","1980-12-31","資格工業㈱","㈲資格電気工事",null,"■","高第G07-100205","2007/11/20","M06-00116","2006/08/20","L13作00151","2013/07/24","職長007151","2010/10/07","安責17395","2012/06/11","F15工90091","2015/10/10","M18-07923","2018/09/01"]
[1]
[2]
[3]
[4]
[5]
[6]
[7]
[8]
[9]
[10]
[11]
[12]
[13]
[14]
[15]
[16]
[17]
[18]
[19]
[20]
[21]
[22]
[23]
[24]
[25]
[26]
[27]
[28]
[29]
[30]
[31]
[32]
[33]
[34]
[35]
[36]
[37]
[38]
[39]
[40]
[41]
[42]
[43]
[44]
[45]
[46]
[47]
[48]
[49]
[50]
[51]
[52]
[53]
[54]
[55]
[56]
[57]
[58]
[59]
[60]
[61]
[62]
[63]
[64]
[65]
[66]
[67]
[68]
[69]
[70]
[71]
[72]
[73]
[74]
[75]
[76]
[77]
[78]
[79]
[80]
[81]
[82]
[83]
[84]
[85]
[86]
[87]
[88]
[89]
[90]
[91]
[92]
[93]
[94]
[95]
[96]
[97]
[98]
[99]
[100]

{"sheet":"リスト","index":2,"n_rows":21,"n_cols":2,"rows_kept":21,"cut":false,"hidden":true,"merged":[]}
["選択リスト内容"]
["発行機関","特別教育"]
[]
["A :（株）豊田自動織機","02:高所作業者特別教育"]
["C :愛知製鋼（株）","03:感電防止特別教育"]
["D :（株）ジェイテクト","04:振動工具取扱作業者特別教育　　"]
["E :トヨタ車体（株）","05:有機溶剤作業特別教育"]
["M :豊田通商（株）","06:無線クレーン作業特別教育"]
["F :アイシン精機（株）","07:アーク溶接特別教育"]
["G :デンソー安全衛生協議会","08:自由研削砥石取替試運転特別教育"]
["H :トヨタ紡織（株）","09:低圧電気取扱者特別教育"]
["N :（株）豊田中央研究所","10:酸素欠乏危険作業特別教育"]
["I :トヨタ自動車東日本（株）","11:粉じん作業者特別教育"]
["J :豊田合成（株）"]
["K :日野自動車（株）"]
["L :ダイハツ工業（株）"]
["LK:ダイハツ九州（株）"]
["V :トヨタ自動車安全衛生協力会"]
["VK:トヨタ自動車九州安全衛生協力会"]
["VH:トヨタ自動車北海道安全衛生協力会"]
["P :トヨタホーム（株）"]